BEGIN:VCALENDAR
VERSION:2.0
PRODID:-//Enterprise Engineering Institute - ECPv6.15.20//NONSGML v1.0//EN
CALSCALE:GREGORIAN
METHOD:PUBLISH
X-WR-CALNAME:Enterprise Engineering Institute
X-ORIGINAL-URL:https://ee-institute.org
X-WR-CALDESC:Events for Enterprise Engineering Institute
REFRESH-INTERVAL;VALUE=DURATION:PT1H
X-Robots-Tag:noindex
X-PUBLISHED-TTL:PT1H
BEGIN:VTIMEZONE
TZID:Europe/Amsterdam
BEGIN:DAYLIGHT
TZOFFSETFROM:+0100
TZOFFSETTO:+0200
TZNAME:CEST
DTSTART:20200329T010000
END:DAYLIGHT
BEGIN:STANDARD
TZOFFSETFROM:+0200
TZOFFSETTO:+0100
TZNAME:CET
DTSTART:20201025T010000
END:STANDARD
BEGIN:DAYLIGHT
TZOFFSETFROM:+0100
TZOFFSETTO:+0200
TZNAME:CEST
DTSTART:20210328T010000
END:DAYLIGHT
BEGIN:STANDARD
TZOFFSETFROM:+0200
TZOFFSETTO:+0100
TZNAME:CET
DTSTART:20211031T010000
END:STANDARD
BEGIN:DAYLIGHT
TZOFFSETFROM:+0100
TZOFFSETTO:+0200
TZNAME:CEST
DTSTART:20220327T010000
END:DAYLIGHT
BEGIN:STANDARD
TZOFFSETFROM:+0200
TZOFFSETTO:+0100
TZNAME:CET
DTSTART:20221030T010000
END:STANDARD
BEGIN:DAYLIGHT
TZOFFSETFROM:+0100
TZOFFSETTO:+0200
TZNAME:CEST
DTSTART:20230326T010000
END:DAYLIGHT
BEGIN:STANDARD
TZOFFSETFROM:+0200
TZOFFSETTO:+0100
TZNAME:CET
DTSTART:20231029T010000
END:STANDARD
BEGIN:DAYLIGHT
TZOFFSETFROM:+0100
TZOFFSETTO:+0200
TZNAME:CEST
DTSTART:20240331T010000
END:DAYLIGHT
BEGIN:STANDARD
TZOFFSETFROM:+0200
TZOFFSETTO:+0100
TZNAME:CET
DTSTART:20241027T010000
END:STANDARD
BEGIN:DAYLIGHT
TZOFFSETFROM:+0100
TZOFFSETTO:+0200
TZNAME:CEST
DTSTART:20250330T010000
END:DAYLIGHT
BEGIN:STANDARD
TZOFFSETFROM:+0200
TZOFFSETTO:+0100
TZNAME:CET
DTSTART:20251026T010000
END:STANDARD
END:VTIMEZONE
BEGIN:VEVENT
DTSTART;TZID=Europe/Amsterdam:20240829T173000
DTEND;TZID=Europe/Amsterdam:20240829T210000
DTSTAMP:20260423T103827
CREATED:20240126T152540Z
LAST-MODIFIED:20240213T111616Z
UID:2759-1724952600-1724965200@ee-institute.org
SUMMARY:EDEKX 29-8
DESCRIPTION:
URL:https://ee-institute.org/event/edekx-29-8/
END:VEVENT
BEGIN:VEVENT
DTSTART;TZID=Europe/Amsterdam:20240612T173000
DTEND;TZID=Europe/Amsterdam:20240612T210000
DTSTAMP:20260423T103827
CREATED:20240126T152512Z
LAST-MODIFIED:20240529T112425Z
UID:2757-1718213400-1718226000@ee-institute.org
SUMMARY:EDEKX 12-6
DESCRIPTION:EDE Institute organiseert Knowledge eXchange: informatiemodelleren\n\n\n\nHet Enterprise Design and Engineering Institute organiseert met medewerking van TEEC2 en CaseTalk de volgende Enterprise Design and Engineering Knowledge eXchange (voorheen DEMO platform). Het event zal plaatsvinden op woensdag 12 juni en staat in het teken van feitgebaseerd informatiemodelleren en effectieve communicatie. \n\n\n\n📅 Agenda:17:30 – Inloop met broodjes18:30 – Marco Wobben over feitgebaseerde informatiemodellering19:30 – Borrel en netwerken20:30 – Einde \n\n\n\n🔊 SprekersMarco Wobben is expert op het gebied van feitgebaseerde informatiemodellering. Hij heeft recent zijn boek ‘Just the Facts’ gepubliceerd waarin verschillende doelgroepen addreseert: bedrijfsmedewerkers en domeindeskundigen\, architecten en modelleurs\, en ontwikkelaars en data engineers. Het boek toont een mogelijkheid tot het bouwen van bruggen van begrip en samenwerking in het digitale tijdperk. Met zijn brede ervaring en bijdragen aan fact-based modeling deelt Marco inzichten en praktische voorbeelden om silo’s overstijgen\, technologie af te stemmen op organisatiedoelen\, en een harmonieuze toekomst voor communicatie\, technologie en bedrijfsvoering creëren. \n\n\n\nLink naar het boek: https://technicspub.com/just-the-facts/ \n\n\n\n🖊 Aanmelden:Registreren kan via het LinkedIn event. Het aantal plaatsen is beperkt tot 40. Indien je later toch besluit niet te komen\, meld je dan ajb weer af zodat een ander je plek kan innemen.Deelname is gratis\, maar bij een no-show of annulering minder dan 48 uur vantevoren\, kunnen cateringkosten in rekening worden gebracht. \n\n\n\nℹ Over EDEKX:EDEKX biedt enterprise engineers de mogelijkheid om kennis te delen en/of iets nieuws te leren. De focus ligt op het ontwerpen en inrichten van (ketens van) organisaties\, enterprise architectuur en het ontwerpen van informatiesystemen en software. Gebruikte modelleertalen zijn o.a. #DEMO\, #ArchiMate\, #ORM\, #BPMN en #OntoUML. \n\n\n\n🚫 Wat we niet doen tijdens een EDEKX evenement:* Sales* Recruitment \n\n\n\n❗ We verzoeken je aan te melden indien je aanwezig wilt zijn. Annuleren is mogelijk tot 48 uur voor de start van het evenement. Deelname is gratis\, maar bij een no-show of late annulering kan de organisator de cateringkosten in rekening brengen (met uitzondering van persoonlijke omstandigheden). \n\n\n\n👉 Wil je meer weten over #EDEKX of je eigen event organiseren\, neem dan contact op met het EEI Community Team via community@ee-institute.org.
URL:https://ee-institute.org/event/edekx-12-6/
END:VEVENT
BEGIN:VEVENT
DTSTART;TZID=Europe/Amsterdam:20240430T160000
DTEND;TZID=Europe/Amsterdam:20240430T203000
DTSTAMP:20260423T103827
CREATED:20240126T152436Z
LAST-MODIFIED:20240418T080841Z
UID:2755-1714492800-1714509000@ee-institute.org
SUMMARY:EDEKX 30-4
DESCRIPTION:Strafrechtketen Architectuurraad EDEKX-event: Wetsuitvoering zoals bedoeld.
URL:https://ee-institute.org/event/edekx-30-4/
END:VEVENT
BEGIN:VEVENT
DTSTART;TZID=Europe/Amsterdam:20240213T173000
DTEND;TZID=Europe/Amsterdam:20240213T210000
DTSTAMP:20260423T103827
CREATED:20240126T152114Z
LAST-MODIFIED:20240213T111644Z
UID:2751-1707845400-1707858000@ee-institute.org
SUMMARY:EDEKX 13-2
DESCRIPTION:TEEC2 organiseert met het Enterprise Engineering Institute de eerste Enterprise Design and Engineering Knowledge eXchange (voorheen #DEMO platform). Het event zal plaatsvinden op 13 februari en staat in het kader van de ontwikkelingen rond het EEI\, DEMO en het Simplified Modeling platform. \n\n\n\n📅 Agenda:17:30 – Inloop met broodjes18:30 – 3 sprekers: * Ontwikkelingen EEI * Ontwikkelingen DEMO-4\, door Marien Krouwel * Ontwikkelingen Simplified Modeling Platform\, door Mark Mulder20:00 – Borrel en netwerken21:00 – Einde \n\n\n\n🔊 SprekersMarien Krouwel\, enterprise engineer en oprichter van Trives\, geeft een overzicht van de belangrijkste wijzigingen in DEMO-4 zoals die zijn beschreven in de nieuwe versie van het boek Enterprise Ontology – A Human-Centric Approach to Understanding the Essence of Organisation (Jan Dietz en Hans Mulder) dat wordt verwacht in maart 2024. \n\n\n\nMark Mulder toont het online modelleerplatform van TEEC2 waarmee o.a. DEMO modellen kunnen worden gemaakt en dat tegenwoordig ook model gedreven software ontwikkeling aansturen\, met o.a. InformationGrid en #Mendix. \n\n\n\n🖊 Aanmelden:Registreren kan via het LinkedIn event. Het aantal plaatsen is beperkt tot 25. Indien je later toch besluit niet te komen\, meld je dan ajb weer af zodat een ander je plek kan innemen.Deelname is gratis\, maar bij een no-show of annulering minder dan 48 uur vantevoren\, kunnen cateringkosten in rekening worden gebracht. \n\n\n\nℹ Over EDEKX:EDEKX biedt enterprise engineers de mogelijkheid om kennis te delen en/of iets nieuws te leren. De focus ligt op het ontwerpen en inrichten van (ketens van) organisaties\, enterprise architectuur en het ontwerpen van informatiesystemen en software. Gebruikte modelleertalen zijn o.a. #DEMO\, #ArchiMate\, #ORM\, #BPMN en #OntoUML. \n\n\n\n🚫 Wat we niet doen tijdens een EDEKX evenement:* Sales* Recruitment \n\n\n\n❗ We verzoeken je aan te melden indien je aanwezig wilt zijn. Annuleren is mogelijk tot 48 uur voor de start van het evenement. Deelname is gratis\, maar bij een no-show of late annulering kan de organisator de cateringkosten in rekening brengen (met uitzondering van persoonlijke omstandigheden). \n\n\n\n👉 Wil je meer weten over #EDEKX of je eigen event organiseren\, neem dan contact op met het EEI Community Team via community@ee-institute.org.
URL:https://ee-institute.org/event/edekx-13-2/
LOCATION:TEEC2\, De Wel 2h\, Hoevelaken\, 3871 MV\, Netherlands
END:VEVENT
BEGIN:VEVENT
DTSTART;TZID=Europe/Amsterdam:20231212T160000
DTEND;TZID=Europe/Amsterdam:20231212T190000
DTSTAMP:20260423T103827
CREATED:20231026T073407Z
LAST-MODIFIED:20231027T105429Z
UID:2743-1702396800-1702407600@ee-institute.org
SUMMARY:Enterprise Design and Engineering Seminar
DESCRIPTION:Met veel plezier bieden wij vanuit het Enterprise Engineering institute een inspirerende bijeenkomst met als thema ketensamenwerking en keteninformatisering. \n\n\n\nWe hebben een boeiend programma samengesteld met sprekers uit het veld:Prof.dr. Hans Mulder over VISIIde Hingstman over de implementatie van Asset Management ISO55000 met gebruik van DEMOProf.dr. Martin Op ‘t Land over de Handreiking KetenBusinessAnalyse (HKBA) en DEMO voor het verhelderen van verantwoordelijkheden en afhankelijkheden in het ontwerpen van ketensamenwerking in de StrafrechtketenMarten van Sinderen vanuit University of Twente over OntoUML \n\n\n\nTijdens de pauze bieden wij posterpresentaties aan\, onder andere over het modelleergereedschap ‘Simplified’. \n\n\n\nReserveer deze datum alvast in uw agenda. Meer details over de locatie en aanmelding volgen.
URL:https://ee-institute.org/event/enterprise-desing-and-engineering-seminar/
END:VEVENT
BEGIN:VEVENT
DTSTART;TZID=Europe/Amsterdam:20231018T160000
DTEND;TZID=Europe/Amsterdam:20231018T210000
DTSTAMP:20260423T103827
CREATED:20230921T085227Z
LAST-MODIFIED:20230921T085409Z
UID:2578-1697644800-1697662800@ee-institute.org
SUMMARY:Effectieve architectuurpatronen in ketens
DESCRIPTION:Effectieve architectuurpatronen in ketens  \n\n\n\nIn ketens is niemand de baas … en toch moet er een resultaat gehaald worden – zoals “tijdig\, eerlijk en effectief rechtdoen” in de strafrechtketen. Maar hoe zorg je dan dat resultaat gehaald wordt\, en dat iedereen daarin zijn verantwoordelijkheid neemt? \n\n\n\nIn het KNVI-event Effectieve architectuurpatronen in ketens\, op woensdag 18 oktober vanaf 16:00 bij Capgemini in Utrecht\, nemen we je mee in de praktijkcasus “keten forensisch onderzoek”: \n\n\n\n\ninteractieve kennismaking met de Design & Engineering Methodology for Organizations (DEMO);\n\n\n\ncasus samenwerken in forensisch onderzoek: conceptuele architectuur en verantwoordelijkheden;\n\n\n\nde 3 Strafrechtketen-interactiepatronen voor ketensamenwerking: standaarden en bouwbaarheid;\n\n\n\ndienstoriëntatie: anders samenwerken in losjes gekoppelde organisaties.\n\n\n\n\n \n\n\n\nGeïnteresseerd? Dan kun je jezelf aanmelden op de KNVI-website via de onderstade knop.
URL:https://ee-institute.org/event/effectieve-architectuurpatronen-in-ketens/
END:VEVENT
BEGIN:VEVENT
DTSTART;TZID=Europe/Amsterdam:20221102T080000
DTEND;TZID=Europe/Amsterdam:20221104T170000
DTSTAMP:20260423T103827
CREATED:20220621T082705Z
LAST-MODIFIED:20220625T114135Z
UID:2041-1667376000-1667581200@ee-institute.org
SUMMARY:EEWC 2022
DESCRIPTION:Experience the benefits of a Working Conference featuring an integrated Industry Track and a Doctoral Consortium\, providing inspiration and conditions for an interesting program with significant scientific advancement. \nThe 2022 Enterprise Engineering Working Conference (EEWC 2022) is the eleventh working conference addressing the emerging field of Enterprise Engineering\, having as goal to gather academics and practitioners in order to share innovative research issues and practical experiences\, mixing rigour and relevance\, and to facilitate profound discussions on the issues put forward in our Call for Papers. \nThe proceedings of the working conference will be\, as always\, published in Springer’s Lecture Notes in Business Information Processing (LNBIP)\, as Advances in Enterprise Engineering XVI.
URL:https://ee-institute.org/event/eewc-2022/
END:VEVENT
BEGIN:VEVENT
DTSTART;TZID=Europe/Amsterdam:20220929T190000
DTEND;TZID=Europe/Amsterdam:20220929T200000
DTSTAMP:20260423T103827
CREATED:20220623T034602Z
LAST-MODIFIED:20221010T114714Z
UID:2106-1664478000-1664481600@ee-institute.org
SUMMARY:EE Webinar - Digitalisering van de strafrechtelijke executieketen
DESCRIPTION:Op 1 januari 2020 is de wet herziening tenuitvoerlegging strafrechtelijke beslissingen (USB) ingevoerd. De belangrijkste verandering deze wet is dat de tenuitvoerlegging van strafrechtelijke beslissingen niet langer door het Openbaar Ministerie maar door Minister van Rechtsbescherming tenuitvoer worden gelegd. De belangrijkste gedachte achter de wet USB is dat de Minister\, en voor deze het Administratie- en Informatiecentrum voor de Executieketen[1] (AICE)\, beter in staat zal zijn om regie te houden op de tenuitvoerlegging van straffen en maatregelen. Dat moet leiden tot: \n\n\n\nhet sneller en beter uitvoeren van straffen en maatregelenhet verbeteren van de informatiepositie van medewerkersmeer grip en zicht op het uitvoeringsproces door ketenregieeen sluitende executieketen\n\n\n\n\n\n\n\nOp het moment dat de wet werd ingevoerd\, was de informatie-uitwisseling in de executieketen echter nog niet in lijn met de beoogde doelsituatie. De hiermee samenhangende werkprocessen\, IV-voorzieningen en koppelvlakken moesten nog stapsgewijs gerealiseerd en geïmplementeerd worden. \n\n\n\nBegin 2020 besluiten het AICE en de Dienst Justiële Inrichtingen (DJI) om de tenuitvoerlegging van vrijheidsbenemende straffen en maatregelen te gaan digitaliseren op basis van een dienstoriëntatie en met DEMO als methodologie …
URL:https://ee-institute.org/event/ee-webinar/
END:VEVENT
BEGIN:VEVENT
DTSTART;TZID=Europe/Amsterdam:20220901T190000
DTEND;TZID=Europe/Amsterdam:20220901T200000
DTSTAMP:20260423T103827
CREATED:20220623T033717Z
LAST-MODIFIED:20220831T065618Z
UID:2097-1662058800-1662062400@ee-institute.org
SUMMARY:(Cancelled due to illness) EE Webinar - Automating DEMO models
DESCRIPTION:In this webinar\, Mark Mulder will zoom in on his thesis ‘Enabling the automatic verification and exchange of DEMO models’ and the current state of the subject. \nAbstract of the thesis: \nThe Design and Engineering Methodology for Organisations (DEMO) is a core method within the discipline of Enterprise Engineering (EE). It enables the creation of so-called essential models of enterprises. Such models are enterprise models that aim to focus on the organisational essence of an enterprise by leaving out (as much as possible) details of the socio-technical implementation. The organisational essence is then expressed primarily in terms of the actor roles involved\, and the business transactions between these roles. The DEMO method has a firm theoretical foundation. At the same time\, there is increasing uptake of DEMO in practice. This also results in a need for enterprise-grade tool support for the use of the method. In this thesis\, we report on a study concerning the selection\, configuration\, and extension\, of an enterprise-grade tool to support the use of DEMO in practice with the need for the automatic verification and exchange of DEMO models. The configuration of the selected tool framework to support DEMO modelling\, provided general insights regarding the development of enterprise-grade tool support for (model-driven) methods such as DEMO\, while also providing feedback on the consistency and completeness of the DEMO Specification Language (DEMOSL); the specification language that accompanies the DEMO method. \nMS teams Webinar
URL:https://ee-institute.org/event/ee-demo-webinar/
END:VEVENT
BEGIN:VEVENT
DTSTART;TZID=Europe/Amsterdam:20210915T150000
DTEND;TZID=Europe/Amsterdam:20210915T180000
DTSTAMP:20260423T103827
CREATED:20220620T122417Z
LAST-MODIFIED:20220625T121034Z
UID:1987-1631718000-1631728800@ee-institute.org
SUMMARY:EEi Meeting 2021
DESCRIPTION:
URL:https://ee-institute.org/event/ee-meeting-2021/
LOCATION:TEEC2\, De Wel 2H\, Hoevelaken\, Netherlands
END:VEVENT
END:VCALENDAR